BEGIN:VCALENDAR
VERSION:2.0
PRODID:-//bogensport-aachen.de - ECPv6.15.18//NONSGML v1.0//EN
CALSCALE:GREGORIAN
METHOD:PUBLISH
X-ORIGINAL-URL:https://bogensport-aachen.de
X-WR-CALDESC:Veranstaltungen für bogensport-aachen.de
REFRESH-INTERVAL;VALUE=DURATION:PT1H
X-Robots-Tag:noindex
X-PUBLISHED-TTL:PT1H
BEGIN:VTIMEZONE
TZID:Europe/Berlin
BEGIN:DAYLIGHT
TZOFFSETFROM:+0100
TZOFFSETTO:+0200
TZNAME:CEST
DTSTART:20230326T010000
END:DAYLIGHT
BEGIN:STANDARD
TZOFFSETFROM:+0200
TZOFFSETTO:+0100
TZNAME:CET
DTSTART:20231029T010000
END:STANDARD
BEGIN:DAYLIGHT
TZOFFSETFROM:+0100
TZOFFSETTO:+0200
TZNAME:CEST
DTSTART:20240331T010000
END:DAYLIGHT
BEGIN:STANDARD
TZOFFSETFROM:+0200
TZOFFSETTO:+0100
TZNAME:CET
DTSTART:20241027T010000
END:STANDARD
BEGIN:DAYLIGHT
TZOFFSETFROM:+0100
TZOFFSETTO:+0200
TZNAME:CEST
DTSTART:20250330T010000
END:DAYLIGHT
BEGIN:STANDARD
TZOFFSETFROM:+0200
TZOFFSETTO:+0100
TZNAME:CET
DTSTART:20251026T010000
END:STANDARD
END:VTIMEZONE
BEGIN:VEVENT
DTSTART;TZID=Europe/Berlin:20240427T110000
DTEND;TZID=Europe/Berlin:20240427T130000
DTSTAMP:20260421T194548
CREATED:20240409T191931Z
LAST-MODIFIED:20240823T195529Z
UID:93-1714215600-1714222800@bogensport-aachen.de
SUMMARY:Probetraining - Ausgebucht!
DESCRIPTION:Auf Grund des schlechten Wetters haben wir unser Probetraining vom 20.4.2024 auf den 27.4.2024 verschoben! \nHabt ihr Lust bei den BSV Batavieren Mitglied zu werden? \nDie BSV Batavieren bieten wieder Probetrainings an. Wir zeigen euch\, wie man mit dem Bogen umgeht. Im Anschluss könnt ihr auf unserem Gelände unter Anleitung Bogenschießen. \n!! Wir sind ausgebucht. !! \nSolltet ihr Interesse an unserem Probetraining haben\, meldet euch bitte bei uns per EMail an.
URL:https://bogensport-aachen.de/event/probetraining/
LOCATION:Bogensportanlage BSV Batavieren\, Horbacher Str. /Alter Heerler Weg\, Aachen-Horbach\, 52072\, Deutschland
CATEGORIES:Probetraining
ATTACH;FMTTYPE=image/jpeg:https://bogensport-aachen.de/wp-content/uploads/2024/04/BSV_Logo_small.jpg
END:VEVENT
END:VCALENDAR